BEGIN:VCALENDAR
VERSION:2.0
PRODID:Charles County, MD Calendar Creator
METHOD:PUBLISH
BEGIN:VEVENT
DTSTAMP:20260305T085414
DTSTART:20260321T130000
DTEND:20260321T235900
SUMMARY:Commissioner Dr. Amanda Stewart (District 3) Town Hall meeting
DESCRIPTION:Join Commissioner Dr. Amanda Stewart (District 3) for a town hall community meeting.
X-ALT-DESC;FMTTYPE=text/html:Join Commissioner Dr. Amanda Stewart (District 3) for a town hall community meeting.
LOCATION:Potomac Branch Library\, 3225 Ruth B. Swann Dr Indian Head\, Maryland 20640
CLASS:PUBLIC
END:VEVENT
END:VCALENDAR
