BEGIN:VCALENDAR
VERSION:2.0
PRODID:Charles County, MD Calendar Creator
METHOD:PUBLISH
BEGIN:VEVENT
DTSTAMP:20260219T194204
DTSTART:20260216T110000
DTEND:20260216T121500
SUMMARY:SBDC: Planning For Business Ownership
DESCRIPTION:<p><strong>Registration Deadline</strong>: 2/15/2026 5:00 PM (EST)<br><strong>Fee</strong>: No Fee</p><p><a href="https://mdsbdc.ecenterdirect.com/events/signup/18438" target="_blank" rel="noopener" class="styled-button">Register Here</a></p><p><strong>Point of Contact</strong>: <a href="mailto:&#100;&#105;&#97;&#110;&#101;&#109;&#99;&#102;&#64;&#117;&#109;&#100;&#46;&#101;&#100;&#117;">Diane McFarland</a></p><p><strong>Program Format</strong>: Online Meeting (Live)</p><p><strong>Training Topics</strong>: Business Start-up/Preplanning</p><p><strong>Description:</strong><br>Join this session to understand that by taking a personal inventory as to “Why” business ownership is for you, you will grasp the considerations in deciding your readiness and how to decide “What” business you should consider for ownership. Presenter, Richard Bock, FranNet</p><p><strong>Instructions</strong>: The log-on link will be included in the registration confirmation email you receive once you register.</p>
X-ALT-DESC;FMTTYPE=text/html:<p><strong>Registration Deadline</strong>: 2/15/2026 5:00 PM (EST)<br><strong>Fee</strong>: No Fee</p><p><a href="https://mdsbdc.ecenterdirect.com/events/signup/18438" target="_blank" rel="noopener" class="styled-button">Register Here</a></p><p><strong>Point of Contact</strong>: <a href="mailto:&#100;&#105;&#97;&#110;&#101;&#109;&#99;&#102;&#64;&#117;&#109;&#100;&#46;&#101;&#100;&#117;">Diane McFarland</a></p><p><strong>Program Format</strong>: Online Meeting (Live)</p><p><strong>Training Topics</strong>: Business Start-up/Preplanning</p><p><strong>Description:</strong><br>Join this session to understand that by taking a personal inventory as to “Why” business ownership is for you, you will grasp the considerations in deciding your readiness and how to decide “What” business you should consider for ownership. Presenter, Richard Bock, FranNet</p><p><strong>Instructions</strong>: The log-on link will be included in the registration confirmation email you receive once you register.</p>
LOCATION:Online Meeting (Live)\, 
CLASS:PUBLIC
END:VEVENT
END:VCALENDAR
