BEGIN:VCALENDAR
VERSION:2.0
PRODID:Charles County, MD Calendar Creator
METHOD:PUBLISH
BEGIN:VEVENT
DTSTAMP:20260219T193946
DTSTART:20260211T100000
DTEND:20260211T130000
SUMMARY:Charles County Job Fair
DESCRIPTION:<p>All Welcome to Attend</p><p>35 + Businesses will be there!</p><p><a href="https://tccsmd.news/JobSeeker-CharlesCoJobFairFeb11?fbclid=IwZXh0bgNhZW0CMTAAYnJpZBExd2N2eUs3UXdTNnpuVFB4RXNydGMGYXBwX2lkEDIyMjAzOTE3ODgyMDA4OTIAAR5NG3OmeR_18IuhBGZZctvbx63JcsoyWJ3Znp_guWEDvVUFe2ZsL8yfRrW2Zg_aem_2z05YyzfKjTP11_EE2Wxkw" target="_blank" rel="noopener">Register Today</a> to stay Informed or Just Show Up</p>
X-ALT-DESC;FMTTYPE=text/html:<p>All Welcome to Attend</p><p>35 + Businesses will be there!</p><p><a href="https://tccsmd.news/JobSeeker-CharlesCoJobFairFeb11?fbclid=IwZXh0bgNhZW0CMTAAYnJpZBExd2N2eUs3UXdTNnpuVFB4RXNydGMGYXBwX2lkEDIyMjAzOTE3ODgyMDA4OTIAAR5NG3OmeR_18IuhBGZZctvbx63JcsoyWJ3Znp_guWEDvVUFe2ZsL8yfRrW2Zg_aem_2z05YyzfKjTP11_EE2Wxkw" target="_blank" rel="noopener">Register Today</a> to stay Informed or Just Show Up</p>
LOCATION:College of Southern MD\, 8730 Mitchell Road\, BI Bldg. La Plata\, Maryland 20646
CLASS:PUBLIC
END:VEVENT
END:VCALENDAR
