BEGIN:VCALENDAR
VERSION:2.0
PRODID:Charles County, MD Calendar Creator
METHOD:PUBLISH
BEGIN:VEVENT
DTSTAMP:20260219T193854
DTSTART:20260211T100000
DTEND:20260211T110000
SUMMARY:SBDC: Truth Serum: Ask the Right Questions Before You Sign a Payroll Contract
DESCRIPTION:<p><strong>Registration Deadline</strong>: 2/10/2026 4:00 PM (EST)<br><strong>Fee</strong>: No Fee</p><p><a href="https://mdsbdc.ecenterdirect.com/events/signup/18393" target="_blank" rel="noopener" class="styled-button">Register Here</a></p><p><strong>Point of Contact</strong>: <a href="mailto:&#100;&#105;&#97;&#110;&#101;&#109;&#99;&#102;&#64;&#117;&#109;&#100;&#46;&#101;&#100;&#117;">Diane McFarland</a></p><p><strong>Program Format</strong>: Online Meeting (Live)</p><p><strong>Training Topics</strong>: Managing a Business, Risk Management, Tax Planning</p><p><strong>Description:</strong><br>Join Cindy Sentelle, Sentelle Corporate Solutions, LLC, a seasoned CPA, and Mike Taylor, owner of Payroll Vault, a third-party payroll processing company, for an eye-opening discussion on what every business owner should know before committing to a payroll service. This engaging session will pull back the curtain on common misunderstandings surrounding payroll taxes, withholdings, and compliance responsibilities. Cindy will share insights from a CPA’s perspective—highlighting real concerns expressed by small business clients who’ve faced payroll pitfalls. Mike will bring his hands-on expertise in payroll processing, explaining how to evaluate service contracts, ask the right questions, and avoid costly surprises. costly surprises. Whether you manage payroll in-house or rely on an outside provider, you’ll walk away with practical guidance to protect your business, ensure compliance, and build stronger partnerships with your financial professionals.</p><p><strong>Instructions</strong>: A log-on link will be sent to registrants the day/evening prior to the training.</p>
X-ALT-DESC;FMTTYPE=text/html:<p><strong>Registration Deadline</strong>: 2/10/2026 4:00 PM (EST)<br><strong>Fee</strong>: No Fee</p><p><a href="https://mdsbdc.ecenterdirect.com/events/signup/18393" target="_blank" rel="noopener" class="styled-button">Register Here</a></p><p><strong>Point of Contact</strong>: <a href="mailto:&#100;&#105;&#97;&#110;&#101;&#109;&#99;&#102;&#64;&#117;&#109;&#100;&#46;&#101;&#100;&#117;">Diane McFarland</a></p><p><strong>Program Format</strong>: Online Meeting (Live)</p><p><strong>Training Topics</strong>: Managing a Business, Risk Management, Tax Planning</p><p><strong>Description:</strong><br>Join Cindy Sentelle, Sentelle Corporate Solutions, LLC, a seasoned CPA, and Mike Taylor, owner of Payroll Vault, a third-party payroll processing company, for an eye-opening discussion on what every business owner should know before committing to a payroll service. This engaging session will pull back the curtain on common misunderstandings surrounding payroll taxes, withholdings, and compliance responsibilities. Cindy will share insights from a CPA’s perspective—highlighting real concerns expressed by small business clients who’ve faced payroll pitfalls. Mike will bring his hands-on expertise in payroll processing, explaining how to evaluate service contracts, ask the right questions, and avoid costly surprises. costly surprises. Whether you manage payroll in-house or rely on an outside provider, you’ll walk away with practical guidance to protect your business, ensure compliance, and build stronger partnerships with your financial professionals.</p><p><strong>Instructions</strong>: A log-on link will be sent to registrants the day/evening prior to the training.</p>
LOCATION:Online Meeting (Live)\, 
CLASS:PUBLIC
END:VEVENT
END:VCALENDAR
