BEGIN:VCALENDAR
VERSION:2.0
PRODID:Charles County, MD Calendar Creator
METHOD:PUBLISH
BEGIN:VEVENT
DTSTAMP:20260219T192214
DTSTART:20260204T103000
DTEND:20260204T113000
SUMMARY:SBDC: AI From Opportunity to Exposure 2026
DESCRIPTION:<p><strong>Registration Deadline</strong>: 2/3/2026 4:00 PM (EST)<br><strong>Fee</strong>: No Fee</p><p><a href="https://mdsbdc.ecenterdirect.com/events/signup/18434" target="_blank" rel="noopener" class="styled-button">Register Here</a></p><p><strong>Point of Contact</strong>: <a href="mailto:&#100;&#105;&#97;&#110;&#101;&#109;&#99;&#102;&#64;&#117;&#109;&#100;&#46;&#101;&#100;&#117;">Diane McFarland</a></p><p><strong>Program Format</strong>: Online Meeting (Live)</p><p><strong>Training Topics</strong>: Artificial Intelligence (AI), Cybersecurity Assistance</p><p><strong>Description:</strong><br>Join this cybersecurity training presentation filled with incredibly valuable information of Chris May of Advantage Technology to explore how AI creates both opportunities and vulnerabilities in business operations. This session covers risk scenarios and strategies to leverage AI safely. Presenter, Chris May; Advantage Technology</p><p><strong>Instructions</strong>: A log-on link will be included in the confirmation email once you register.</p>
X-ALT-DESC;FMTTYPE=text/html:<p><strong>Registration Deadline</strong>: 2/3/2026 4:00 PM (EST)<br><strong>Fee</strong>: No Fee</p><p><a href="https://mdsbdc.ecenterdirect.com/events/signup/18434" target="_blank" rel="noopener" class="styled-button">Register Here</a></p><p><strong>Point of Contact</strong>: <a href="mailto:&#100;&#105;&#97;&#110;&#101;&#109;&#99;&#102;&#64;&#117;&#109;&#100;&#46;&#101;&#100;&#117;">Diane McFarland</a></p><p><strong>Program Format</strong>: Online Meeting (Live)</p><p><strong>Training Topics</strong>: Artificial Intelligence (AI), Cybersecurity Assistance</p><p><strong>Description:</strong><br>Join this cybersecurity training presentation filled with incredibly valuable information of Chris May of Advantage Technology to explore how AI creates both opportunities and vulnerabilities in business operations. This session covers risk scenarios and strategies to leverage AI safely. Presenter, Chris May; Advantage Technology</p><p><strong>Instructions</strong>: A log-on link will be included in the confirmation email once you register.</p>
LOCATION:Online Meeting (Live)\, 
CLASS:PUBLIC
END:VEVENT
END:VCALENDAR
