BEGIN:VCALENDAR
VERSION:2.0
PRODID:Charles County, MD Calendar Creator
METHOD:PUBLISH
BEGIN:VEVENT
DTSTAMP:20260219T172336
DTSTART:20251209T130000
DTEND:20251209T140000
SUMMARY:SBDC: Making The Case For Home-Based Businesses-Why You Should
DESCRIPTION:<p><strong>Registration Deadline</strong>: 12/8/2025 4:00 PM (EST)<br><strong>Fee</strong>: No Fee</p><p><a href="https://mdsbdc.ecenterdirect.com/login?event=18356" target="_blank" rel="noopener" class="styled-button">Register Here</a></p><p><strong>Point of Contact</strong>: <a href="mailto:&#100;&#105;&#97;&#110;&#101;&#109;&#99;&#102;&#64;&#117;&#109;&#100;&#46;&#101;&#100;&#117;">Diane McFarland</a></p><p><strong>Program Format</strong>: Online Meeting (Live)</p><p><strong>Training Topics</strong>: Business Start-up/Preplanning, Franchising</p><p><strong>Description:</strong><br>Join this session to learn why the Home-Based option for business ownership is growing in a post COVID world. This training applies to all business start-ups and includes a franchise component as well. The session is <strong>not</strong> about "HOW" to start a home-based business, it is about "WHY" to start a home-based business and describes some of those options. Presenter, Richard Bock, FranNet</p><p><strong>Instructions</strong>: A log-on link will be sent to registrants the day/evening prior to the training.</p>
X-ALT-DESC;FMTTYPE=text/html:<p><strong>Registration Deadline</strong>: 12/8/2025 4:00 PM (EST)<br><strong>Fee</strong>: No Fee</p><p><a href="https://mdsbdc.ecenterdirect.com/login?event=18356" target="_blank" rel="noopener" class="styled-button">Register Here</a></p><p><strong>Point of Contact</strong>: <a href="mailto:&#100;&#105;&#97;&#110;&#101;&#109;&#99;&#102;&#64;&#117;&#109;&#100;&#46;&#101;&#100;&#117;">Diane McFarland</a></p><p><strong>Program Format</strong>: Online Meeting (Live)</p><p><strong>Training Topics</strong>: Business Start-up/Preplanning, Franchising</p><p><strong>Description:</strong><br>Join this session to learn why the Home-Based option for business ownership is growing in a post COVID world. This training applies to all business start-ups and includes a franchise component as well. The session is <strong>not</strong> about "HOW" to start a home-based business, it is about "WHY" to start a home-based business and describes some of those options. Presenter, Richard Bock, FranNet</p><p><strong>Instructions</strong>: A log-on link will be sent to registrants the day/evening prior to the training.</p>
LOCATION:Online Meeting (Live)\, 
CLASS:PUBLIC
END:VEVENT
END:VCALENDAR
