BEGIN:VCALENDAR
VERSION:2.0
PRODID:Charles County, MD Calendar Creator
METHOD:PUBLISH
BEGIN:VEVENT
DTSTAMP:20260219T172237
DTSTART:20251210T100000
DTEND:20251210T111500
SUMMARY:SBDC: Payroll Pitfalls: How to Stay Compliant and Avoid Costly Mistakes
DESCRIPTION:<p><strong>Registration Deadline</strong>: 12/9/2025 4:00 PM (EST)<br><strong>Fee</strong>: No Fee</p><p><a href="https://mdsbdc.ecenterdirect.com/login?event=18351" target="_blank" rel="noopener" class="styled-button">Register Here</a></p><p><strong>Point of Contact</strong>: <a href="mailto:&#100;&#105;&#97;&#110;&#101;&#109;&#99;&#102;&#64;&#117;&#109;&#100;&#46;&#101;&#100;&#117;">Diane McFarland</a></p><p><strong>Program Format</strong>: Online Meeting (Live)</p><p><strong>Training Topics</strong>: Managing a Business, Tax Planning</p><p><strong>Description:</strong><br>Payroll compliance is critical for small business owners, yet common errors can lead to fines and penalties. This workshop covers essential payroll tax requirements, classification of employees vs. independent contractors, and best practices to ensure compliance. Attendees will leave with actionable insights to streamline payroll processes and protect their business from costly mistakes. Presenter, Bev Stitely; Saunders Tax &amp; Accounting</p><p><strong>Instructions</strong>: A log-on link will be sent to registrants the day/evening prior to the training.</p>
X-ALT-DESC;FMTTYPE=text/html:<p><strong>Registration Deadline</strong>: 12/9/2025 4:00 PM (EST)<br><strong>Fee</strong>: No Fee</p><p><a href="https://mdsbdc.ecenterdirect.com/login?event=18351" target="_blank" rel="noopener" class="styled-button">Register Here</a></p><p><strong>Point of Contact</strong>: <a href="mailto:&#100;&#105;&#97;&#110;&#101;&#109;&#99;&#102;&#64;&#117;&#109;&#100;&#46;&#101;&#100;&#117;">Diane McFarland</a></p><p><strong>Program Format</strong>: Online Meeting (Live)</p><p><strong>Training Topics</strong>: Managing a Business, Tax Planning</p><p><strong>Description:</strong><br>Payroll compliance is critical for small business owners, yet common errors can lead to fines and penalties. This workshop covers essential payroll tax requirements, classification of employees vs. independent contractors, and best practices to ensure compliance. Attendees will leave with actionable insights to streamline payroll processes and protect their business from costly mistakes. Presenter, Bev Stitely; Saunders Tax &amp; Accounting</p><p><strong>Instructions</strong>: A log-on link will be sent to registrants the day/evening prior to the training.</p>
LOCATION:Online Meeting (Live)\, 
CLASS:PUBLIC
END:VEVENT
END:VCALENDAR
