BEGIN:VCALENDAR
VERSION:2.0
PRODID:Charles County, MD Calendar Creator
METHOD:PUBLISH
BEGIN:VEVENT
DTSTAMP:20260223T153909
DTSTART:20260225T180000
DTEND:20260225T190000
SUMMARY:Community Meeting: White Plains Regional Park Enhancements (Waldorf Senior & Recreational Center)
DESCRIPTION:<div x14z9mp="" xat24cr="" x1lziwak="" x1vvkbs="" x126k92a"=""><p dir="auto">Charles County residents are invited to participate in an upcoming community meeting on Wednesday, February 25, at the Waldorf Senior &amp; Recreational Center from 6-7 p.m. for an overview of the planned enhancements at White Plains Regional Park, including outdoor basketball courts, additional parking, and modifications to the golf course driving range.</p></div><div xat24cr="" x1lziwak="" x1vvkbs="" xtlvy1s="" x126k92a"=""><p dir="auto"> When: Wednesday, February 25<br>&nbsp;Where: Waldorf Senior &amp; Recreational Center<br>&nbsp;Time: 6:00-7:00 p.m.</p></div><div xat24cr="" x1lziwak="" x1vvkbs="" xtlvy1s="" x126k92a"=""><p dir="auto">This is your chance to help shape the future of White Plains Regional Park. Come with your questions, share your thoughts, and let your voice be heard!</p></div>
X-ALT-DESC;FMTTYPE=text/html:<div x14z9mp="" xat24cr="" x1lziwak="" x1vvkbs="" x126k92a"=""><p dir="auto">Charles County residents are invited to participate in an upcoming community meeting on Wednesday, February 25, at the Waldorf Senior &amp; Recreational Center from 6-7 p.m. for an overview of the planned enhancements at White Plains Regional Park, including outdoor basketball courts, additional parking, and modifications to the golf course driving range.</p></div><div xat24cr="" x1lziwak="" x1vvkbs="" xtlvy1s="" x126k92a"=""><p dir="auto"> When: Wednesday, February 25<br>&nbsp;Where: Waldorf Senior &amp; Recreational Center<br>&nbsp;Time: 6:00-7:00 p.m.</p></div><div xat24cr="" x1lziwak="" x1vvkbs="" xtlvy1s="" x126k92a"=""><p dir="auto">This is your chance to help shape the future of White Plains Regional Park. Come with your questions, share your thoughts, and let your voice be heard!</p></div>
LOCATION:Waldorf Senior and Recreational Center\, 90 Post Office Rd. Waldorf\, Maryland 20602
CLASS:PUBLIC
END:VEVENT
END:VCALENDAR
