BEGIN:VCALENDAR
VERSION:2.0
PRODID:Charles County, MD Calendar Creator
METHOD:PUBLISH
BEGIN:VEVENT
DTSTAMP:20260203T134808
DTSTART:20260216T000000
DTEND:20260216T235900
SUMMARY:Charles County Government offices closed
DESCRIPTION:<p><b>Presidents’ Day</b></p><p><ul type="disc">    <li>All Charles County Government offices and the Charles County Animal Care Center in Hughesville will be closed.</li>    <li>The Nanjemoy Community Center, senior centers, and all school-based community centers will be closed.</li>    <li>Lackey, Donald M. Wade Aquatic Center,&nbsp;and North Point High indoor pools will be open from noon – 5 p.m.</li>    <li>Waldorf Senior and Recreational Center will be closed.</li>    <li>Lackey, Donald M. Wade Aquatic Center,and North Point High indoor pools will be&nbsp;open from 4:00-9:00pm.&nbsp;</li>    <li>Elite Gymnastics and Recreation Center will be open for scheduled activities.</li>    <li>Port Tobacco Recreation Center will be open for scheduled activities.&nbsp;</li>    <li>Waldorf Senior and Recreational Center is closed.&nbsp;</li></ul></p>
X-ALT-DESC;FMTTYPE=text/html:<p><b>Presidents’ Day</b></p><p><ul type="disc">    <li>All Charles County Government offices and the Charles County Animal Care Center in Hughesville will be closed.</li>    <li>The Nanjemoy Community Center, senior centers, and all school-based community centers will be closed.</li>    <li>Lackey, Donald M. Wade Aquatic Center,&nbsp;and North Point High indoor pools will be open from noon – 5 p.m.</li>    <li>Waldorf Senior and Recreational Center will be closed.</li>    <li>Lackey, Donald M. Wade Aquatic Center,and North Point High indoor pools will be&nbsp;open from 4:00-9:00pm.&nbsp;</li>    <li>Elite Gymnastics and Recreation Center will be open for scheduled activities.</li>    <li>Port Tobacco Recreation Center will be open for scheduled activities.&nbsp;</li>    <li>Waldorf Senior and Recreational Center is closed.&nbsp;</li></ul></p>
LOCATION:
CLASS:PUBLIC
END:VEVENT
END:VCALENDAR
