BEGIN:VCALENDAR
VERSION:2.0
PRODID:Charles County, MD Calendar Creator
METHOD:PUBLISH
BEGIN:VEVENT
DTSTAMP:20251105T131358
DTSTART:20260716T190000
DTEND:20260716T210000
SUMMARY:Board of Fire and Rescue
DESCRIPTION:<p><b>Dial in by phone</b> </p><p><a href="tel:+12406730212,,717210017">+1 240-673-0212,,717210017#</a> United States, Bethesda </p><p><a href="https://dialin.teams.microsoft.com/c312864f-1042-42cd-8337-314727eb4699?id=717210017">Find a local number</a> </p><p>Phone conference ID: 717 210 017# </p>
X-ALT-DESC;FMTTYPE=text/html:<p><b>Dial in by phone</b> </p><p><a href="tel:+12406730212,,717210017">+1 240-673-0212,,717210017#</a> United States, Bethesda </p><p><a href="https://dialin.teams.microsoft.com/c312864f-1042-42cd-8337-314727eb4699?id=717210017">Find a local number</a> </p><p>Phone conference ID: 717 210 017# </p>
LOCATION:Charles County Government Building\, 200 Baltimore Street La Plata\, Maryland 20646
CLASS:PUBLIC
END:VEVENT
END:VCALENDAR
