BEGIN:VCALENDAR
VERSION:2.0
PRODID:Charles County, MD Calendar Creator
METHOD:PUBLISH
BEGIN:VEVENT
DTSTAMP:20251105T131144
DTSTART:20260618T190000
DTEND:20260618T210000
SUMMARY:Board of Fire and Rescue
DESCRIPTION:<p><b>Dial in by phone</b> </p><p><a href="tel:+12406730212,,515776732">+1 240-673-0212,,515776732#</a> United States, Bethesda </p><p><a href="https://dialin.teams.microsoft.com/c312864f-1042-42cd-8337-314727eb4699?id=515776732">Find a local number</a> </p><p>Phone conference ID: 515 776 732# </p>
X-ALT-DESC;FMTTYPE=text/html:<p><b>Dial in by phone</b> </p><p><a href="tel:+12406730212,,515776732">+1 240-673-0212,,515776732#</a> United States, Bethesda </p><p><a href="https://dialin.teams.microsoft.com/c312864f-1042-42cd-8337-314727eb4699?id=515776732">Find a local number</a> </p><p>Phone conference ID: 515 776 732# </p>
LOCATION:Charles County Government Building\, 200 Baltimore Street La Plata\, Maryland 20646
CLASS:PUBLIC
END:VEVENT
END:VCALENDAR
