BEGIN:VCALENDAR
VERSION:2.0
PRODID:Charles County, MD Calendar Creator
METHOD:PUBLISH
BEGIN:VEVENT
DTSTAMP:20251105T123024
DTSTART:20260619T000000
DTEND:20260619T235900
SUMMARY:Self-Help Center is CLOSED
DESCRIPTION:The Self-Help Center is closed for Juneteenth National Independence Day and will reopen on Monday, June 22, 2026 at 8:30 AM.
X-ALT-DESC;FMTTYPE=text/html:The Self-Help Center is closed for Juneteenth National Independence Day and will reopen on Monday, June 22, 2026 at 8:30 AM.
LOCATION:
CLASS:PUBLIC
END:VEVENT
END:VCALENDAR
