BEGIN:VCALENDAR
VERSION:2.0
PRODID:Charles County, MD Calendar Creator
METHOD:PUBLISH
BEGIN:VEVENT
DTSTAMP:20251124T162344
DTSTART:20251125T180000
DTEND:20251125T200000
SUMMARY:Compensation Commission - Virtual
DESCRIPTION:<p><b>Microsoft Teams</b> <a href="https://aka.ms/JoinTeamsMeeting?omkt=en-US">Need help?</a> </p><p><a href="https://teams.microsoft.com/l/meetup-join/19%3ameeting_OWYxYWYwMmItODhkNS00MTFkLWIyM2EtMzk3ZjE4MjdjN2E4%40thread.v2/0?context=%7b%22Tid%22%3a%22fd87d171-3677-452e-ba9d-437ea4fe0da4%22%2c%22Oid%22%3a%22bd3fa8d9-937a-42e9-b8fc-89bc57785e39%22%7d" target="_blank" title="Meeting join link"><b>Join the meeting now</b></a> </p><p>Meeting ID: 239 697 046 333 79 </p><p>Passcode: Ws7v6Es2 </p><div align="center"> <hr size="1" width="100%" align="center"></div><p><b>Dial in by phone</b> </p><p><a href="tel:+12406730212,,473409775">+1 240-673-0212,,473409775#</a> United States, Bethesda </p><p><a href="https://dialin.teams.microsoft.com/c312864f-1042-42cd-8337-314727eb4699?id=473409775">Find a local number</a> </p><p>Phone conference ID: 473 409 775# </p>
X-ALT-DESC;FMTTYPE=text/html:<p><b>Microsoft Teams</b> <a href="https://aka.ms/JoinTeamsMeeting?omkt=en-US">Need help?</a> </p><p><a href="https://teams.microsoft.com/l/meetup-join/19%3ameeting_OWYxYWYwMmItODhkNS00MTFkLWIyM2EtMzk3ZjE4MjdjN2E4%40thread.v2/0?context=%7b%22Tid%22%3a%22fd87d171-3677-452e-ba9d-437ea4fe0da4%22%2c%22Oid%22%3a%22bd3fa8d9-937a-42e9-b8fc-89bc57785e39%22%7d" target="_blank" title="Meeting join link"><b>Join the meeting now</b></a> </p><p>Meeting ID: 239 697 046 333 79 </p><p>Passcode: Ws7v6Es2 </p><div align="center"> <hr size="1" width="100%" align="center"></div><p><b>Dial in by phone</b> </p><p><a href="tel:+12406730212,,473409775">+1 240-673-0212,,473409775#</a> United States, Bethesda </p><p><a href="https://dialin.teams.microsoft.com/c312864f-1042-42cd-8337-314727eb4699?id=473409775">Find a local number</a> </p><p>Phone conference ID: 473 409 775# </p>
LOCATION:Charles County Government Building\, 200 Baltimore Street La Plata\, Maryland 20646
CLASS:PUBLIC
END:VEVENT
END:VCALENDAR
