BEGIN:VCALENDAR
VERSION:2.0
PRODID:Charles County, MD Calendar Creator
METHOD:PUBLISH
BEGIN:VEVENT
DTSTAMP:20251001T115341
DTSTART:20251009T110000
DTEND:20251009T235900
SUMMARY:Change in Government Operations
DESCRIPTION:<ul type="disc">    <li>The Department of Fiscal and Administrative Services and Treasury Offices are closed at 11 a.m. for staff training.</li></ul>
X-ALT-DESC;FMTTYPE=text/html:<ul type="disc">    <li>The Department of Fiscal and Administrative Services and Treasury Offices are closed at 11 a.m. for staff training.</li></ul>
LOCATION:
CLASS:PUBLIC
END:VEVENT
END:VCALENDAR
