BEGIN:VCALENDAR
VERSION:2.0
PRODID:Charles County, MD Calendar Creator
METHOD:PUBLISH
BEGIN:VEVENT
DTSTAMP:20250609T111357
DTSTART:20250609T180000
DTEND:20250609T193000
SUMMARY:Commissioners Attendance Agenda
DESCRIPTION:<p><b>Mozambique Delegation Visit</b></p><p>Charles County Commissioners are joining the Mozambique Delegation for an informal welcome dinner at 6 p.m. at Prime Street Grille (4680 Crain Highway, White Plains, MD 20695).</p>
X-ALT-DESC;FMTTYPE=text/html:<p><b>Mozambique Delegation Visit</b></p><p>Charles County Commissioners are joining the Mozambique Delegation for an informal welcome dinner at 6 p.m. at Prime Street Grille (4680 Crain Highway, White Plains, MD 20695).</p>
LOCATION:Prime Street Grille\, 4680 Crain Highway White Plains\, Maryland 20695
CLASS:PUBLIC
END:VEVENT
END:VCALENDAR
