BEGIN:VCALENDAR
VERSION:2.0
PRODID:Charles County, MD Calendar Creator
METHOD:PUBLISH
BEGIN:VEVENT
DTSTAMP:20250529T101919
DTSTART:20250605T000000
DTEND:20250605T235900
SUMMARY:Changes in Government Operations
DESCRIPTION:<p>The Department of Planning and Growth Management be closed for training from 8 a.m. – 2 p.m.</p>
X-ALT-DESC;FMTTYPE=text/html:<p>The Department of Planning and Growth Management be closed for training from 8 a.m. – 2 p.m.</p>
LOCATION:
CLASS:PUBLIC
END:VEVENT
END:VCALENDAR
