BEGIN:VCALENDAR
VERSION:2.0
PRODID:Charles County, MD Calendar Creator
METHOD:PUBLISH
BEGIN:VEVENT
DTSTAMP:20250218T091922
DTSTART:20250426T090000
DTEND:20250426T235900
SUMMARY:Rain Barrel & Composting Workshop
DESCRIPTION:Come learn more about Rain Barrels and Composting at a pair of class times at 9 a.m. and 10:30 a.m. For more information, visit the <a href="https://www.charlescountymd.gov/government/planning-and-growth-management/stormwater-management/rain-barrell-workshops" target="_blank">Rain Barrell workshops</a> webpage
X-ALT-DESC;FMTTYPE=text/html:Come learn more about Rain Barrels and Composting at a pair of class times at 9 a.m. and 10:30 a.m. For more information, visit the <a href="https://www.charlescountymd.gov/government/planning-and-growth-management/stormwater-management/rain-barrell-workshops" target="_blank">Rain Barrell workshops</a> webpage
LOCATION:Waldorf Senior and Recreational Center\, 90 Post Office Rd. Waldorf\, Maryland 20602
CLASS:PUBLIC
END:VEVENT
END:VCALENDAR
