BEGIN:VCALENDAR
VERSION:2.0
PRODID:Charles County, MD Calendar Creator
METHOD:PUBLISH
BEGIN:VEVENT
DTSTAMP:20241220T125336
DTSTART:20250724T160000
DTEND:20250724T173000
SUMMARY:Police Accountability Board
DESCRIPTION:<div>Microsoft Teams&nbsp;<u><a href="https://aka.ms/JoinTeamsMeeting?omkt=en-US" target="_blank" id="x_meet_invite_block.action.help" owaautolink"="" rel="noopener noreferrer" data-auth="NotApplicable">Need help?</a></u></div><div><u><a href="https://teams.microsoft.com/l/meetup-join/19%3ameeting_YjNiZDljNGYtMzc2NS00YmI3LWE4ZGItNzA1NjRlZjBkZjkw%40thread.v2/0?context=%7b%22Tid%22%3a%22fd87d171-3677-452e-ba9d-437ea4fe0da4%22%2c%22Oid%22%3a%22d6d0eec5-804f-4f84-9a93-e10aa342d599%22%7d" target="_blank" id="x_meet_invite_block.action.join_link" owaautolink"="" title="Meeting join link" rel="noreferrer noopener" data-auth="NotApplicable">Join the meeting now</a></u></div><div>Meeting ID:&nbsp;291 396 920 404</div><div>Passcode:&nbsp;CE2kH3EG</div><div><hr></div><div>Dial in by phone</div><div><u><a href="tel:+12406730212,,459156732#" target="_blank" id="x_meet_invite_block.action.join_phone_number1" owaautolink"="" rel="noopener noreferrer" data-auth="NotApplicable">+1 240-673-0212,,459156732#</a></u>&nbsp;United States, Bethesda</div><div><u><a href="https://dialin.teams.microsoft.com/c312864f-1042-42cd-8337-314727eb4699?id=459156732" target="_blank" id="x_meet_invite_block.action.join_phone_find_local_number" owaautolink"="" rel="noopener noreferrer" data-auth="NotApplicable">Find a local number</a></u></div><div>Phone conference ID:&nbsp;459 156 732#</div>
X-ALT-DESC;FMTTYPE=text/html:<div>Microsoft Teams&nbsp;<u><a href="https://aka.ms/JoinTeamsMeeting?omkt=en-US" target="_blank" id="x_meet_invite_block.action.help" owaautolink"="" rel="noopener noreferrer" data-auth="NotApplicable">Need help?</a></u></div><div><u><a href="https://teams.microsoft.com/l/meetup-join/19%3ameeting_YjNiZDljNGYtMzc2NS00YmI3LWE4ZGItNzA1NjRlZjBkZjkw%40thread.v2/0?context=%7b%22Tid%22%3a%22fd87d171-3677-452e-ba9d-437ea4fe0da4%22%2c%22Oid%22%3a%22d6d0eec5-804f-4f84-9a93-e10aa342d599%22%7d" target="_blank" id="x_meet_invite_block.action.join_link" owaautolink"="" title="Meeting join link" rel="noreferrer noopener" data-auth="NotApplicable">Join the meeting now</a></u></div><div>Meeting ID:&nbsp;291 396 920 404</div><div>Passcode:&nbsp;CE2kH3EG</div><div><hr></div><div>Dial in by phone</div><div><u><a href="tel:+12406730212,,459156732#" target="_blank" id="x_meet_invite_block.action.join_phone_number1" owaautolink"="" rel="noopener noreferrer" data-auth="NotApplicable">+1 240-673-0212,,459156732#</a></u>&nbsp;United States, Bethesda</div><div><u><a href="https://dialin.teams.microsoft.com/c312864f-1042-42cd-8337-314727eb4699?id=459156732" target="_blank" id="x_meet_invite_block.action.join_phone_find_local_number" owaautolink"="" rel="noopener noreferrer" data-auth="NotApplicable">Find a local number</a></u></div><div>Phone conference ID:&nbsp;459 156 732#</div>
LOCATION:Charles County Government Building\, 200 Baltimore Street La Plata\, Maryland 20646
CLASS:PUBLIC
END:VEVENT
END:VCALENDAR
